BEGIN:VCALENDAR
VERSION:2.0
PRODID:-//ddaysoftware.com//NONSGML DDay.iCal 1.0//EN
BEGIN:VTIMEZONE
TZID:W. Europe Standard Time
BEGIN:STANDARD
DTSTART:20251002T030000
RRULE:FREQ=YEARLY;BYDAY=-1SU;BYHOUR=3;BYMINUTE=0;BYMONTH=10
TZNAME:W. Europe Standard Time
TZOFFSETFROM:+0200
TZOFFSETTO:+0100
END:STANDARD
BEGIN:DAYLIGHT
DTSTART:20250301T020000
RRULE:FREQ=YEARLY;BYDAY=-1SU;BYHOUR=2;BYMINUTE=0;BYMONTH=3
TZNAME:W. Europe Daylight Time
TZOFFSETFROM:+0100
TZOFFSETTO:+0200
END:DAYLIGHT
END:VTIMEZONE
BEGIN:VEVENT
CATEGORIES:Museen
CATEGORIES:Museum Hammerschmiede und Stockerhof Naichen
CATEGORIES:Konzerte
CATEGORIES:Ausstellungen
CATEGORIES:Kultur
CATEGORIES:Familie
CATEGORIES:Führungen
DESCRIPTION:\n\nVeranstalter: Museum Hammerschmiede und Stockerhof Naichen\
 n\nhttps://hsn.bezirk-schwaben.de/veranstaltungen/alphorntag
DTEND:20260726T170000
DTSTAMP:20260421T084151Z
DTSTART:20260726T130000
LOCATION:Museum Hammerschmiede und Stockerhof Naichen: 86476 Neuburg/Kammel
SEQUENCE:0
SUMMARY:Alphorntag in Naichen
UID:57445
URL:https://hsn.bezirk-schwaben.de/veranstaltungen/alphorntag
END:VEVENT
END:VCALENDAR
